BEGIN:VCALENDAR
VERSION:2.0
PRODID:-//The Morrab Library - ECPv6.15.20//NONSGML v1.0//EN
CALSCALE:GREGORIAN
METHOD:PUBLISH
X-WR-CALNAME:The Morrab Library
X-ORIGINAL-URL:https://morrablibrary.org.uk
X-WR-CALDESC:Events for The Morrab Library
REFRESH-INTERVAL;VALUE=DURATION:PT1H
X-Robots-Tag:noindex
X-PUBLISHED-TTL:PT1H
BEGIN:VTIMEZONE
TZID:UTC
BEGIN:STANDARD
TZOFFSETFROM:+0000
TZOFFSETTO:+0000
TZNAME:UTC
DTSTART:20170101T000000
END:STANDARD
END:VTIMEZONE
BEGIN:VEVENT
DTSTART;TZID=UTC:20181201T110000
DTEND;TZID=UTC:20181201T120000
DTSTAMP:20260424T171526
CREATED:20181020T125442Z
LAST-MODIFIED:20181020T125442Z
UID:3258-1543662000-1543665600@morrablibrary.org.uk
SUMMARY:Deadlier Than The Male: Wives of the Generals\, 1677-1937
DESCRIPTION:How much influence did notable wives have on the leading commanders in British military history? These women tend to be disregarded but\, as Trina Beckett demonstrates in this revealing and thought- provoking study\, their influence has often been profound. Taking examples from the eighteenth century to the Second World War\, she uncovers a hidden dimension in the rise to prominence of some of Britain’s most famous soldiers and documents a series of fascinating relationships between powerful men and equally powerful women. Sarah Churchill\, Duchess of Marlborough\, and Dorothy\, Countess Haig are perhaps the most famous examples of wives who played important roles in their husbands’ brilliant careers. Yet sometimes the wives of leading commanders would be hindered as well as helped by their wives. Paulina Wood proved such a disastrous hostess that she almost destroyed the career of Sir Evelyn Wood\, and Lord Robert’s reputation for jobbery owed much to his wife Nora’s constant interference in appointments. Trina Beckett’s perceptive and absorbing case studies reveal much about the women whose lives she portrays and the contribution they made to their distinguished husbands’ military careers. \nTrina Beckett has contributed to a number of short story anthologies\, including The Waterloo Collection: An Anthology of Short Stories (2011)\, which raised funds to restore Hougoumont Chateau in time for the battle’s bicentenary commemorations. Trina is married\, has 2 children\, 4 grandchildren\, and lives in Cornwall: this is her first book. \n  \nFree\, all welcome & booking recommended. 
URL:https://morrablibrary.org.uk/event/deadlier-than-the-male-wives-of-the-generals-1677-1937/
LOCATION:Morrab Library
CATEGORIES:200 year,Book Launch,Event,Talk
END:VEVENT
END:VCALENDAR