BEGIN:VCALENDAR
VERSION:2.0
PRODID:-//The Morrab Library - ECPv6.15.20//NONSGML v1.0//EN
CALSCALE:GREGORIAN
METHOD:PUBLISH
X-ORIGINAL-URL:https://morrablibrary.org.uk
X-WR-CALDESC:Events for The Morrab Library
REFRESH-INTERVAL;VALUE=DURATION:PT1H
X-Robots-Tag:noindex
X-PUBLISHED-TTL:PT1H
BEGIN:VTIMEZONE
TZID:UTC
BEGIN:STANDARD
TZOFFSETFROM:+0000
TZOFFSETTO:+0000
TZNAME:UTC
DTSTART:20180101T000000
END:STANDARD
END:VTIMEZONE
BEGIN:VEVENT
DTSTART;TZID=UTC:20190213T140000
DTEND;TZID=UTC:20190213T150000
DTSTAMP:20260423T201240
CREATED:20190104T124944Z
LAST-MODIFIED:20190110T104838Z
UID:3966-1550066400-1550070000@morrablibrary.org.uk
SUMMARY:FULLY BOOKED! Graphology Talk
DESCRIPTION:Please note that this talk is now fully booked. If you have already booked a place and find that you can’t attend please do let us know as we have a waiting list! \nClaire Pearcey\, BAoG\, studied graphology at the British Academy of Graphology in London and taught the subject of handwriting analysis at the BBC. She promises a fascinating talk on how to tell a person’s character from their handwriting and how this information is used in the world of employment\, for compatibility\, for in depth analysis\, forensics and much much more. \nSuggested donation of £4 & booking recommended.
URL:https://morrablibrary.org.uk/event/graphology-talk/
LOCATION:Morrab Library
CATEGORIES:Talk
END:VEVENT
END:VCALENDAR