BEGIN:VCALENDAR
VERSION:2.0
PRODID:-//The Morrab Library - ECPv6.15.20//NONSGML v1.0//EN
CALSCALE:GREGORIAN
METHOD:PUBLISH
X-WR-CALNAME:The Morrab Library
X-ORIGINAL-URL:https://morrablibrary.org.uk
X-WR-CALDESC:Events for The Morrab Library
REFRESH-INTERVAL;VALUE=DURATION:PT1H
X-Robots-Tag:noindex
X-PUBLISHED-TTL:PT1H
BEGIN:VTIMEZONE
TZID:UTC
BEGIN:STANDARD
TZOFFSETFROM:+0000
TZOFFSETTO:+0000
TZNAME:UTC
DTSTART:20180101T000000
END:STANDARD
END:VTIMEZONE
BEGIN:VEVENT
DTSTART;TZID=UTC:20190313T140000
DTEND;TZID=UTC:20190313T150000
DTSTAMP:20260423T184548
CREATED:20190117T121743Z
LAST-MODIFIED:20190125T104427Z
UID:3987-1552485600-1552489200@morrablibrary.org.uk
SUMMARY:FULLY BOOKED! Wilkie Collins Rambles in Cornwall\, a talk by Jak Stringer
DESCRIPTION:PLEASE NOTE THAT THIS EVENT IS NOW FULLY BOOKED\nWilkie Collins Rambles in Cornwall\nLong before The Woman in White\, a young Wilkie Collins aspired to become a writer and\ndecided to tour the untrodden ground of Cornwall to produce a travel book of a hitherto\nunexplored destination.\nRambles Beyond Railways was published in 1851 and the result is an extraordinary insight\ninto the lives of Cornish people\, who worked on the land\, underground and on the sea.\nJoin Wilkie Collins Society Member\, Jak Stringer for a light-hearted\, informative multi-\nmedia talk\, which combines an exploration into this great man’s early years\, with some\nincredible stories from his book.\n“Jak Stringer is a one woman Wilkie wonder. Living in Penzance\, she is single-handedly\nbringing to life the 1851 stories and experiences of the young Wilkie Collins in Rambles\nBeyond Railways.” – The Wilkie Collins Society Newsletter \n \nBOOKING ESSENTIAL – please contact the library to reserve a space\nSuggested donation of £4 per person
URL:https://morrablibrary.org.uk/event/wilkie-collins-rambles-in-cornwall-a-talk-by-jak-stringer/
LOCATION:Morrab Library
CATEGORIES:Event,Talk
END:VEVENT
END:VCALENDAR