BEGIN:VCALENDAR
VERSION:2.0
PRODID:-//The Morrab Library - ECPv6.15.20//NONSGML v1.0//EN
CALSCALE:GREGORIAN
METHOD:PUBLISH
X-WR-CALNAME:The Morrab Library
X-ORIGINAL-URL:https://morrablibrary.org.uk
X-WR-CALDESC:Events for The Morrab Library
REFRESH-INTERVAL;VALUE=DURATION:PT1H
X-Robots-Tag:noindex
X-PUBLISHED-TTL:PT1H
BEGIN:VTIMEZONE
TZID:UTC
BEGIN:STANDARD
TZOFFSETFROM:+0000
TZOFFSETTO:+0000
TZNAME:UTC
DTSTART:20180101T000000
END:STANDARD
END:VTIMEZONE
BEGIN:VEVENT
DTSTART;TZID=UTC:20190508T140000
DTEND;TZID=UTC:20190508T153000
DTSTAMP:20260423T152922
CREATED:20190327T131658Z
LAST-MODIFIED:20190402T075040Z
UID:4046-1557324000-1557329400@morrablibrary.org.uk
SUMMARY:SOLD OUT  - Wed 8th May\, 2pm - Stephen Glendenning: The Art of the Book
DESCRIPTION:This event is now Sold Out – please contact us to place your name on the reserve list.\nWed 8th May\, 2pm – Stephen Glendenning:\nThe Art of the Book\nHow Artists have Challenged the Conventions of Publishing Throughout History\nThe Book: It is perhaps one of the most significant and iconic design objects of western culture. \nStephen works as a conservation bookbinder and whilst his work is to preserve material culture\, he is also aware that western culture evolves and moves forward by a willingness to challenge conventions\, question the norms and occasionally break the rules! \nDuring the 20th century\, artists and crafts people have sought to challenge or improve upon the conventions of what a book might be. Their inventive approach has brought forward new designs and ideas which encourage us to rethink the purpose and function of books. Sometimes subversive\, sometimes delightful; these ideas often go hand in hand with the pioneering philosophical and psychological viewpoints of their time. \nThis lecture presents the findings of a two year research project that seeks to re-frame our understanding of the humble codex. \nGet ready for some surprises. \n   \nBOOKING IS ESSENTIAL\n£4 suggested donation per person
URL:https://morrablibrary.org.uk/event/wed-8th-may-2pm-stephen-glendenning-the-art-of-the-book/
LOCATION:Morrab Library
CATEGORIES:Talk
END:VEVENT
END:VCALENDAR