BEGIN:VCALENDAR
VERSION:2.0
PRODID:-//The Morrab Library - ECPv6.15.20//NONSGML v1.0//EN
CALSCALE:GREGORIAN
METHOD:PUBLISH
X-ORIGINAL-URL:https://morrablibrary.org.uk
X-WR-CALDESC:Events for The Morrab Library
REFRESH-INTERVAL;VALUE=DURATION:PT1H
X-Robots-Tag:noindex
X-PUBLISHED-TTL:PT1H
BEGIN:VTIMEZONE
TZID:UTC
BEGIN:STANDARD
TZOFFSETFROM:+0000
TZOFFSETTO:+0000
TZNAME:UTC
DTSTART:20180101T000000
END:STANDARD
END:VTIMEZONE
BEGIN:VEVENT
DTSTART;TZID=UTC:20190720T110000
DTEND;TZID=UTC:20190720T120000
DTSTAMP:20260423T103706
CREATED:20190619T132846Z
LAST-MODIFIED:20190619T132846Z
UID:4210-1563620400-1563624000@morrablibrary.org.uk
SUMMARY:Writing 'Something So Precious' - A Talk by James Lee
DESCRIPTION:Are you an aspiring novelist? Or do you enjoy listening to writers talk about their work? If so\, we’re delighted to announce that on Saturday 20th July local author James Lee will talk about his recently published novel Something So Precious. \nChronicling the life of a young academic whose world is turned upside down when an enigmatic artist moves into a cottage in her parents’ garden\, a large part of Something So Precious is situated in West Cornwall and it even includes a scene in Morrab Library! James will talk about what inspired him to write this book and how he grappled with the challenges of researching a narrative that plays out across Cornwall\, London\, Barcelona and Paris.
URL:https://morrablibrary.org.uk/event/writing-something-so-precious-a-talk-by-james-lee/
LOCATION:Morrab Library
CATEGORIES:Book Launch,Talk
END:VEVENT
END:VCALENDAR