BEGIN:VCALENDAR
VERSION:2.0
PRODID:-//The Morrab Library - ECPv6.15.20//NONSGML v1.0//EN
CALSCALE:GREGORIAN
METHOD:PUBLISH
X-WR-CALNAME:The Morrab Library
X-ORIGINAL-URL:https://morrablibrary.org.uk
X-WR-CALDESC:Events for The Morrab Library
REFRESH-INTERVAL;VALUE=DURATION:PT1H
X-Robots-Tag:noindex
X-PUBLISHED-TTL:PT1H
BEGIN:VTIMEZONE
TZID:UTC
BEGIN:STANDARD
TZOFFSETFROM:+0000
TZOFFSETTO:+0000
TZNAME:UTC
DTSTART:20180101T000000
END:STANDARD
END:VTIMEZONE
BEGIN:VEVENT
DTSTART;TZID=UTC:20190814T140000
DTEND;TZID=UTC:20190814T150000
DTSTAMP:20260423T090132
CREATED:20190723T133058Z
LAST-MODIFIED:20190723T133058Z
UID:4271-1565791200-1565794800@morrablibrary.org.uk
SUMMARY:Spaceport Cornwall Talk - Cornwall's New Frontier  SOLD OUT
DESCRIPTION:This talk is currently sold out – you can contact us on enquiries@morrablibrary.org.uk or 01736 364474 to be added to the waiting list. \nIn 2021\, Cornwall\, with Virgin Orbit\, will launch the first space system from UK soil in over 50 years.  This presentation will outline how Cornwall became the only horizontal launch site in Europe\, how it will operate from Cornwall Airport Newquay\, and the benefits that will spread across the economy of Cornwall\, inspiring young and old.  \nMelissa Thorpe has been part of the Spaceport Cornwall team for over 4 years\, where she is responsible for business development\, marketing\, communications and education outreach. Originally from Canada\, Melissa’s background is in economics and economic development\, specifically around aerospace business markets. \nBooking Essential – £4 Suggested Donation
URL:https://morrablibrary.org.uk/event/spaceport-cornwall-talk-cornwalls-new-frontier-sold-out/
LOCATION:Morrab Library
CATEGORIES:Talk
END:VEVENT
END:VCALENDAR