BEGIN:VCALENDAR
VERSION:2.0
PRODID:-//The Morrab Library - ECPv6.15.20//NONSGML v1.0//EN
CALSCALE:GREGORIAN
METHOD:PUBLISH
X-ORIGINAL-URL:https://morrablibrary.org.uk
X-WR-CALDESC:Events for The Morrab Library
REFRESH-INTERVAL;VALUE=DURATION:PT1H
X-Robots-Tag:noindex
X-PUBLISHED-TTL:PT1H
BEGIN:VTIMEZONE
TZID:UTC
BEGIN:STANDARD
TZOFFSETFROM:+0000
TZOFFSETTO:+0000
TZNAME:UTC
DTSTART:20180101T000000
END:STANDARD
END:VTIMEZONE
BEGIN:VEVENT
DTSTART;TZID=UTC:20190924T140000
DTEND;TZID=UTC:20190924T150000
DTSTAMP:20260423T091317
CREATED:20190626T122334Z
LAST-MODIFIED:20190710T101313Z
UID:4224-1569333600-1569337200@morrablibrary.org.uk
SUMMARY:Victoria Osborne-Broad Talk
DESCRIPTION:Author Victoria Osborne-Broad will be talking about and reading from her new book\, Guardian of the Stones\, second in the ‘Jewels of the Rainbow’ trilogy. \nBooking Essential – £4 Suggested Donation
URL:https://morrablibrary.org.uk/event/victoria-osborne-broad-talk/
LOCATION:Morrab Library
CATEGORIES:Book Launch,Reading,Talk
END:VEVENT
END:VCALENDAR