BEGIN:VCALENDAR
VERSION:2.0
PRODID:-//The Morrab Library - ECPv6.15.20//NONSGML v1.0//EN
CALSCALE:GREGORIAN
METHOD:PUBLISH
X-ORIGINAL-URL:https://morrablibrary.org.uk
X-WR-CALDESC:Events for The Morrab Library
REFRESH-INTERVAL;VALUE=DURATION:PT1H
X-Robots-Tag:noindex
X-PUBLISHED-TTL:PT1H
BEGIN:VTIMEZONE
TZID:UTC
BEGIN:STANDARD
TZOFFSETFROM:+0000
TZOFFSETTO:+0000
TZNAME:UTC
DTSTART:20180101T000000
END:STANDARD
END:VTIMEZONE
BEGIN:VEVENT
DTSTART;TZID=UTC:20191207T110000
DTEND;TZID=UTC:20191207T120000
DTSTAMP:20260423T011351
CREATED:20191108T144252Z
LAST-MODIFIED:20211118T122039Z
UID:4458-1575716400-1575720000@morrablibrary.org.uk
SUMMARY:Fully Booked: A Photographic Odyssey: Shackleton's Endurance expedition captured on camera
DESCRIPTION:FULLY BOOKED. This event is now fully subscribed. Please get in touch if you would like to be added to the reserve list. \nMark Cottle is reprising his talk on the photographic legacy of Ernest Shackleton’s Endurance expedition on Saturday 7th December at 11.00am. \nThe aim of the lecture is to tell the story of the expedition through the photographs by Frank Hurley\, the expedition’s photographer and a pioneer in the emerging world of photo-journalism. Greenstreet\, First Officer on the Endurance\, called him “a warrior with his camera who would go anywhere or do anything to get a picture”. Hurley’s photographs form the visual narrative of an epic journey\, capturing new and amazing landscapes in which a great human drama is played out. \nBorn in the Isles of Scilly and educated at Truro School in Cornwall and Birmingham University\, Mark Cottle has spent over 20 years lecturing in history. He has always been fascinated by the sea and its stories. \nBOOKING ESSENTIAL – SUGGESTED DONATION £4 \n 
URL:https://morrablibrary.org.uk/event/a-photographic-odyssey-shackletons-endurance-expedition-captured-on-camera/
CATEGORIES:Event,Talk
END:VEVENT
BEGIN:VEVENT
DTSTART;TZID=UTC:20191211T140000
DTEND;TZID=UTC:20191211T150000
DTSTAMP:20260423T011351
CREATED:20191108T150707Z
LAST-MODIFIED:20191122T144910Z
UID:4462-1576072800-1576076400@morrablibrary.org.uk
SUMMARY:Fully Booked: Once Upon A Christmas - A Talk by Suzy Williams
DESCRIPTION:This event is now fully booked. \nOur final talk in 2019 is all about Christmas! \nJoin Suzy Williams as she leads us on a Christmas journey\, taking a look at Cornish and international traditions and customs\, and the origins of some of our favourite Yuletide delights. \nWednesday 11th December\, 2.00pm\nBooking essential\, £4 suggested donation
URL:https://morrablibrary.org.uk/event/once-upon-a-christmas-a-talk-by-suzy-williams/
LOCATION:Morrab Library
CATEGORIES:Event,Talk
END:VEVENT
END:VCALENDAR