BEGIN:VCALENDAR
VERSION:2.0
PRODID:-//The Morrab Library - ECPv6.15.20//NONSGML v1.0//EN
CALSCALE:GREGORIAN
METHOD:PUBLISH
X-WR-CALNAME:The Morrab Library
X-ORIGINAL-URL:https://morrablibrary.org.uk
X-WR-CALDESC:Events for The Morrab Library
REFRESH-INTERVAL;VALUE=DURATION:PT1H
X-Robots-Tag:noindex
X-PUBLISHED-TTL:PT1H
BEGIN:VTIMEZONE
TZID:UTC
BEGIN:STANDARD
TZOFFSETFROM:+0000
TZOFFSETTO:+0000
TZNAME:UTC
DTSTART:20210101T000000
END:STANDARD
END:VTIMEZONE
BEGIN:VEVENT
DTSTART;TZID=UTC:20220413T140000
DTEND;TZID=UTC:20220413T150000
DTSTAMP:20260421T053804
CREATED:20220323T080034Z
LAST-MODIFIED:20220323T080311Z
UID:7064-1649858400-1649862000@morrablibrary.org.uk
SUMMARY:The British Way of War - A talk by Professor Andrew Lambert
DESCRIPTION:Join Professor Andrew Lambert on Wednesday 13th April for a fascinating insight into the uniqueness of  British war strategy. British security needs have been maritime and oceanic\, rather than military and continental\, unlike those of  other major powers\, and when British Governments forget that reality the results have been devastating\, in lives and resources. At the centre of the lecture is Sir Julian Corbett\, (1854-1922)\, the brilliant strategist who developed the concept of a distinctive ‘British Way’ working with the Royal Navy\, Government and the academic community. \nAndrew’s talk is based around his book of the same title – you can listen to a podcast about it here. \nAndrew Lambert is Laughton Professor of Naval History in the Department of War Studies at King’s College\, London\, and Director of the Laughton Naval History Unit. His work focuses on the naval and strategic history of the British Empire between the Napoleonic Wars and the First World War and the evolution of seapower. He has published widely and is winner of Anderson Medal of the Society for Nautical Research and the Gilder Lehrman Prize for Military History. \nAndrew’s talk will take place in the Reading Room on Wednesday 13th April at 2.00pm.  Numbers will be limited\, windows open\, and face coverings encouraged. \nWe will allocate tickets by a ballot system. Please register your interest and the number of tickets required by Monday 4th April by email or telephone. We will then draw out names and let you know if you have been successful. \n£5 Suggested donation. Refreshments will be served after the talk.
URL:https://morrablibrary.org.uk/event/the-british-way-of-war-a-talk-by-professor-andrew-lambert/
LOCATION:Morrab Library
CATEGORIES:Event,Talk
END:VEVENT
END:VCALENDAR