BEGIN:VCALENDAR
VERSION:2.0
PRODID:-//The Morrab Library - ECPv6.15.20//NONSGML v1.0//EN
CALSCALE:GREGORIAN
METHOD:PUBLISH
X-ORIGINAL-URL:https://morrablibrary.org.uk
X-WR-CALDESC:Events for The Morrab Library
REFRESH-INTERVAL;VALUE=DURATION:PT1H
X-Robots-Tag:noindex
X-PUBLISHED-TTL:PT1H
BEGIN:VTIMEZONE
TZID:UTC
BEGIN:STANDARD
TZOFFSETFROM:+0000
TZOFFSETTO:+0000
TZNAME:UTC
DTSTART:20180101T000000
END:STANDARD
END:VTIMEZONE
BEGIN:VEVENT
DTSTART;TZID=UTC:20191023T140000
DTEND;TZID=UTC:20191023T150000
DTSTAMP:20260423T093140
CREATED:20190924T124651Z
LAST-MODIFIED:20190927T093419Z
UID:4337-1571839200-1571842800@morrablibrary.org.uk
SUMMARY:John Trigg – 40 Years of Drawing Books – Talk & Opening
DESCRIPTION:Artist John Trigg has donated his collection of drawing books spanning 40 years. He will be giving a short talk about the books & his life’s work as we celebrate this wonderful gift to the library. There will then be an opportunity to see the books on display in their new home. Refreshments will be provided. \nYou can find out more about John Trigg & his work on his website https://johntriggartist.com \nBooking Essential – Donations Welcome
URL:https://morrablibrary.org.uk/event/john-trigg-40-years-of-drawing-books-talk-opening/
LOCATION:Morrab Library
CATEGORIES:Event,Exhibition,Talk
END:VEVENT
END:VCALENDAR