BEGIN:VCALENDAR
VERSION:2.0
PRODID:-//The Morrab Library - ECPv6.15.20//NONSGML v1.0//EN
CALSCALE:GREGORIAN
METHOD:PUBLISH
X-ORIGINAL-URL:https://morrablibrary.org.uk
X-WR-CALDESC:Events for The Morrab Library
REFRESH-INTERVAL;VALUE=DURATION:PT1H
X-Robots-Tag:noindex
X-PUBLISHED-TTL:PT1H
BEGIN:VTIMEZONE
TZID:UTC
BEGIN:STANDARD
TZOFFSETFROM:+0000
TZOFFSETTO:+0000
TZNAME:UTC
DTSTART:20180101T000000
END:STANDARD
END:VTIMEZONE
BEGIN:VEVENT
DTSTART;TZID=UTC:20191113T140000
DTEND;TZID=UTC:20191113T140000
DTSTAMP:20260423T043029
CREATED:20191019T091737Z
LAST-MODIFIED:20191019T092725Z
UID:4434-1573653600-1573653600@morrablibrary.org.uk
SUMMARY:Brewing up the Past\, Defining the Future: Kresen Kernow
DESCRIPTION:This event is now FULLY BOOKED.\nPlease contact us if you would like to be added to the reserve list.\nA Talk by Iain Rowe\, Learning Officer Kresen Kernow\nIain will briefly explore the long history of Redruth Brewery which was in business for nearly 200 years. The historic buildings left behind by the business have been repurposed over the last five years into Kresen Kernow\, a home for the archives of Cornwall. \nThe talk will follow the transformation\, and discuss the activity programme which ran aside the build\, the move and will continue into the future. \nBooking essential\, £4 suggested donation
URL:https://morrablibrary.org.uk/event/fully-booked-brewing-up-the-past-defining-the-future-kresen-kernow/
CATEGORIES:Event,Talk
END:VEVENT
END:VCALENDAR