BEGIN:VCALENDAR
VERSION:2.0
PRODID:-//The Morrab Library - ECPv6.15.20//NONSGML v1.0//EN
CALSCALE:GREGORIAN
METHOD:PUBLISH
X-ORIGINAL-URL:https://morrablibrary.org.uk
X-WR-CALDESC:Events for The Morrab Library
REFRESH-INTERVAL;VALUE=DURATION:PT1H
X-Robots-Tag:noindex
X-PUBLISHED-TTL:PT1H
BEGIN:VTIMEZONE
TZID:UTC
BEGIN:STANDARD
TZOFFSETFROM:+0000
TZOFFSETTO:+0000
TZNAME:UTC
DTSTART:20190101T000000
END:STANDARD
END:VTIMEZONE
BEGIN:VEVENT
DTSTART;TZID=UTC:20200205T140000
DTEND;TZID=UTC:20200205T150000
DTSTAMP:20260422T234905
CREATED:20200107T153350Z
LAST-MODIFIED:20200108T113339Z
UID:4524-1580911200-1580914800@morrablibrary.org.uk
SUMMARY:John Wesley’s ‘Journal’ as travel writing about Cornwall - A Talk by Dr Peter S. Forsaith
DESCRIPTION:Apologies but this talk is now fully booked.\nLet us know if you would like to be added to the reserve list. \nThis talk will look at John Wesley’s Journal not as religious narrative but as travel writing – particularly about Cornwall – since Wesley described much of what he saw\, and how it was changing in his lifetime. \nDr Peter Forsaith is Research Fellow of the Oxford Centre for Methodism and Church History at Oxford Brookes University. His historical specialisms are in culture\, religion and society in eighteenth- and early nineteenth-century Britain. \nBooking Essential – £4 Suggested Donation \n 
URL:https://morrablibrary.org.uk/event/john-wesleys-journal-as-travel-writing-about-cornwall-a-talk-by-dr-peter-s-forsaith/
LOCATION:Morrab Library
CATEGORIES:Event,Talk
END:VEVENT
END:VCALENDAR