BEGIN:VCALENDAR
VERSION:2.0
PRODID:-//The Morrab Library - ECPv6.15.20//NONSGML v1.0//EN
CALSCALE:GREGORIAN
METHOD:PUBLISH
X-WR-CALNAME:The Morrab Library
X-ORIGINAL-URL:https://morrablibrary.org.uk
X-WR-CALDESC:Events for The Morrab Library
REFRESH-INTERVAL;VALUE=DURATION:PT1H
X-Robots-Tag:noindex
X-PUBLISHED-TTL:PT1H
BEGIN:VTIMEZONE
TZID:Europe/London
BEGIN:DAYLIGHT
TZOFFSETFROM:+0000
TZOFFSETTO:+0100
TZNAME:BST
DTSTART:20220327T010000
END:DAYLIGHT
BEGIN:STANDARD
TZOFFSETFROM:+0100
TZOFFSETTO:+0000
TZNAME:GMT
DTSTART:20221030T010000
END:STANDARD
BEGIN:DAYLIGHT
TZOFFSETFROM:+0000
TZOFFSETTO:+0100
TZNAME:BST
DTSTART:20230326T010000
END:DAYLIGHT
BEGIN:STANDARD
TZOFFSETFROM:+0100
TZOFFSETTO:+0000
TZNAME:GMT
DTSTART:20231029T010000
END:STANDARD
BEGIN:DAYLIGHT
TZOFFSETFROM:+0000
TZOFFSETTO:+0100
TZNAME:BST
DTSTART:20240331T010000
END:DAYLIGHT
BEGIN:STANDARD
TZOFFSETFROM:+0100
TZOFFSETTO:+0000
TZNAME:GMT
DTSTART:20241027T010000
END:STANDARD
END:VTIMEZONE
BEGIN:VEVENT
DTSTART;TZID=Europe/London:20230315T140000
DTEND;TZID=Europe/London:20230315T153000
DTSTAMP:20260420T142555
CREATED:20230221T115732Z
LAST-MODIFIED:20230313T081929Z
UID:8342-1678888800-1678894200@morrablibrary.org.uk
SUMMARY:Morvoren: the poetry of sea swimming
DESCRIPTION:Quay jump photograph by Alice Bray. Swimming photographs by Rita Hencke. \nMorvoren is a book of thirty-two fresh new poems created by a group of women poets from Cornwall. Ella Walsworth-Bell\, Hannah Temme\, Abigail Ottley\, Kerry Vincent\, Kate Barden\, Ruth Eggins (from Scilly)\, Polly Roberts came together as a shoal of mer-poets & talked to sea swimmers across our coastline\, aiming to find out why women swim. \nTheir poetry combines with stunning marine photography and explores spirituality\, womaning and blue health. At this talk at Morrab Library\, four of the Morvoren poets will be joined by guest poet Morag Smith to share poetry and photography – come on in\, the water’s lovely… \nTickets are allocated by a ballot system. Please email enquiries@morrablibrary.org.uk or call 01736 364474 to be entered into the ballot for a ticket. The ballot closes on Tuesday 7th March. Entry is £5 by donation to help raise funds for Morrab Library. Refreshments will be provided after the talk.
URL:https://morrablibrary.org.uk/event/morvoren-the-poetry-of-sea-swimming/
LOCATION:Morrab Library
CATEGORIES:Talk
END:VEVENT
END:VCALENDAR