BEGIN:VCALENDAR
VERSION:2.0
PRODID:-//The Morrab Library - ECPv6.15.20//NONSGML v1.0//EN
CALSCALE:GREGORIAN
METHOD:PUBLISH
X-ORIGINAL-URL:https://morrablibrary.org.uk
X-WR-CALDESC:Events for The Morrab Library
REFRESH-INTERVAL;VALUE=DURATION:PT1H
X-Robots-Tag:noindex
X-PUBLISHED-TTL:PT1H
BEGIN:VTIMEZONE
TZID:Europe/London
BEGIN:DAYLIGHT
TZOFFSETFROM:+0000
TZOFFSETTO:+0100
TZNAME:BST
DTSTART:20220327T010000
END:DAYLIGHT
BEGIN:STANDARD
TZOFFSETFROM:+0100
TZOFFSETTO:+0000
TZNAME:GMT
DTSTART:20221030T010000
END:STANDARD
BEGIN:DAYLIGHT
TZOFFSETFROM:+0000
TZOFFSETTO:+0100
TZNAME:BST
DTSTART:20230326T010000
END:DAYLIGHT
BEGIN:STANDARD
TZOFFSETFROM:+0100
TZOFFSETTO:+0000
TZNAME:GMT
DTSTART:20231029T010000
END:STANDARD
BEGIN:DAYLIGHT
TZOFFSETFROM:+0000
TZOFFSETTO:+0100
TZNAME:BST
DTSTART:20240331T010000
END:DAYLIGHT
BEGIN:STANDARD
TZOFFSETFROM:+0100
TZOFFSETTO:+0000
TZNAME:GMT
DTSTART:20241027T010000
END:STANDARD
END:VTIMEZONE
BEGIN:VEVENT
DTSTART;TZID=Europe/London:20231018T140000
DTEND;TZID=Europe/London:20231018T150000
DTSTAMP:20260420T031037
CREATED:20230927T120032Z
LAST-MODIFIED:20230928T062303Z
UID:8978-1697637600-1697641200@morrablibrary.org.uk
SUMMARY:A look at the work of Serena Wadham - Photojournalist | A talk from Lesley Billingham
DESCRIPTION:Our next talk at the library will be from Lesley Billingham about the photojournalist\, Serena Wadham. \n“Serena Wadham (1930-2006) was a photojournalist who was based in Islington from the late 1960s until 1987\, when she retired to Cornwall\, spending her final years at Middle Georgia Farm\, Nancledra\, near St Ives. After her death her family presented a substantial collection of her negatives\, contact sheets and prints\, plus some press material and correspondence\, to the Morrab Library in Penzance. The bulk of the collection relates to Serena Wadham’s activities in and around London. But the rest comprises Cornish themes such as early journalistic assignments\, the landscape\, neighbours and farming around Nancledra\, and a 1990s campaign against the redevelopment of Hayle.” Written by Photo Archive volunteer Robin Lenman in May 2008 for the exhibition he curated at the library. \nLesley Billingham came across the Serena Wadham collection in 2015 when she found out that a substantial portion of extensive collection hundreds of prints\, two and a half thousand 35mm films (each holding up to 36 images) – was sitting in boxes just waiting to be catalogued by another eager volunteer.  \nSerena was a musician\, a motorcyclist\, a feminist\, a photographer – “my kind of woman”\, thought Lesley! In her talk\, Lesley will show a small sample of Serena’s photographs and will share some of her research about her work. \nYou can view the Serena Wadham archive on our photo archive website here. \nTickets are allocated by a ballot system. Please email enquiries@morrablibrary.org.uk or call 01736 364474 to be entered into the ballot for a ticket. The ballot closes on Monday 9th October. Entry to this event is free but donations are welcomed to help support Morrab Library (suggested £5). Refreshments will be provided after the talk. 
URL:https://morrablibrary.org.uk/event/a-look-at-the-work-of-serena-wadham-photojournalist-a-talk-from-lesley-billingham/
LOCATION:Morrab Library
CATEGORIES:Event,Talk
END:VEVENT
END:VCALENDAR