BEGIN:VCALENDAR
VERSION:2.0
PRODID:-//The Morrab Library - ECPv6.15.20//NONSGML v1.0//EN
CALSCALE:GREGORIAN
METHOD:PUBLISH
X-ORIGINAL-URL:https://morrablibrary.org.uk
X-WR-CALDESC:Events for The Morrab Library
REFRESH-INTERVAL;VALUE=DURATION:PT1H
X-Robots-Tag:noindex
X-PUBLISHED-TTL:PT1H
BEGIN:VTIMEZONE
TZID:Europe/London
BEGIN:DAYLIGHT
TZOFFSETFROM:+0000
TZOFFSETTO:+0100
TZNAME:BST
DTSTART:20250330T010000
END:DAYLIGHT
BEGIN:STANDARD
TZOFFSETFROM:+0100
TZOFFSETTO:+0000
TZNAME:GMT
DTSTART:20251026T010000
END:STANDARD
BEGIN:DAYLIGHT
TZOFFSETFROM:+0000
TZOFFSETTO:+0100
TZNAME:BST
DTSTART:20260329T010000
END:DAYLIGHT
BEGIN:STANDARD
TZOFFSETFROM:+0100
TZOFFSETTO:+0000
TZNAME:GMT
DTSTART:20261025T010000
END:STANDARD
BEGIN:DAYLIGHT
TZOFFSETFROM:+0000
TZOFFSETTO:+0100
TZNAME:BST
DTSTART:20270328T010000
END:DAYLIGHT
BEGIN:STANDARD
TZOFFSETFROM:+0100
TZOFFSETTO:+0000
TZNAME:GMT
DTSTART:20271031T010000
END:STANDARD
END:VTIMEZONE
BEGIN:VEVENT
DTSTART;TZID=Europe/London:20260314T100000
DTEND;TZID=Europe/London:20260314T123000
DTSTAMP:20260423T074758
CREATED:20260215T102310Z
LAST-MODIFIED:20260214T093338Z
UID:13507-1773482400-1773491400@morrablibrary.org.uk
SUMMARY:Shelter From The Storm: Cornish Saints and Winter Tales - a workshop and talk
DESCRIPTION:Join local historian Evie Bond on Saturday 14th March for a talk and workshop\, as she explores the tales of Cornish saints who offered protection and guidance through wild winter weather. \nEvie will talk on the legends of saints whose stories speak of storms weathered\, seas calmed\, and winter’s passing. \nFollowing the presentation\, and inspired by these stories\, you will create small artworks using copper foil embossing. \nThis event offers an atmospheric blend of history\, storytelling and creativity before the arrival of spring— perfect for those who love hearing unique Cornish stories. \nBooking:\nTickets cost £15\, including supplies for the workshop\, and spaces can be booked directly with Evie via email at : cornwallhist@outlook.com
URL:https://morrablibrary.org.uk/event/shelter-from-the-storm-cornish-saints-and-winter-tales-a-workshop-and-talk/
LOCATION:Morrab Library
CATEGORIES:Talk,Workshop
ORGANIZER;CN="Evie Bond":MAILTO:cornwallhist@outlook.com
END:VEVENT
BEGIN:VEVENT
DTSTART;TZID=Europe/London:20260318T140000
DTEND;TZID=Europe/London:20260318T150000
DTSTAMP:20260423T074758
CREATED:20260224T095129Z
LAST-MODIFIED:20260224T095129Z
UID:13522-1773842400-1773846000@morrablibrary.org.uk
SUMMARY:Library Talk: ‘Dartmoor Elements – the ecological poems and play extracts of Mark Beeson’ by Tom Greeves
DESCRIPTION:Mark Beeson (1954-2022) was trained as a classicist and primatologist. From 1989-2022 he was artistic director of Manaton & East Dartmoor Theatre (MED Theatre) which he founded. Mark’s greatest legacy is his creative and ecological writing of poetry and plays relating to Dartmoor. As long ago as 1980 his epic poem – The Walk – won a prize in an international poetry competition\, where it was admired by Ted Hughes\, Seamus Heaney\, Charles Causley and Philip Larkin. \nDartmoor Elements (published in 2025) brings together 133 of Mark’s poems and poetic play extracts\, which are intimate reflections on his familiar environment of Dartmoor\, drawing on decades of keen observation of his surroundings and of the creatures (both animal and human) who inhabit it\, as well as on his deep knowledge of the moor’s folklore and culture. With Gillian Webster\, Tom Greeves edited Dartmoor Elements\, which forms the most significant collection of Dartmoor poetry ever published. The poems are accessible and often deeply moving\, and contain much ecological wisdom.   \nTICKETS \nTickets are allocated by a ballot system. Please email enquiries@morrablibrary.org.uk or telephone 01736 364474 to be entered into the ballot.The balot closes on Monday 9th March. \nEntery to this event is free but donations are welcomed to help support the library (suggested £5). \nRefrehments will be provided after the talk.
URL:https://morrablibrary.org.uk/event/library-talk-dartmoor-elements-the-ecological-poems-and-play-extracts-of-mark-beeson-by-tom-greeves/
LOCATION:Morrab Library
CATEGORIES:Event,Talk
END:VEVENT
BEGIN:VEVENT
DTSTART;TZID=Europe/London:20260415T140000
DTEND;TZID=Europe/London:20260415T153000
DTSTAMP:20260423T074758
CREATED:20260331T130522Z
LAST-MODIFIED:20260331T130610Z
UID:13609-1776261600-1776267000@morrablibrary.org.uk
SUMMARY:Kernow to the Crystal Palace: Mary Kelynack’s Extraordinary Journey - a talk from Pamela Vass.
DESCRIPTION:  \n \n  \nIn August 1851 a curiously dressed\, elderly woman was seen trudging along Southampton High Street. Passers by couldn’t fail to notice her\, she wore a huge beaver bonnet and carried a corracle-like basket on her back. She was a Cornish fisherwoman\, she said\, in her 84th year\, and was walking to London from the Land’s End to see the Great Exhibition. \n\n\nMary Kelynack spent her entire life in the small community of Newlyn in the far west of Cornwall. Yet she became so inspired by the wonders of the Great Exhibition in the Crystal Palace that she resolved to go. Travelling by steamer\, coach or train was beyond her means but there was one thing she could do – walk. \n\n\nBefore long she had become quite a celebrity – noticed at the Great Exhibition\, taking tea with the Lord Mayor\, interviewed by the Illustrated London News\, modelled by a famous sculptor\, having a song and a polka named after her… and even greeting the Queen. \n\n\n\n\nThis illustrated presentation reveals the truth behind the Cornish legend that is Mary Kelynack\, covering her extraordinary journey\, her adventures in London and her final\, and previously unreported\, adventure. \nTICKETS \n\n\n\nTickets are allocated by a ballot system. \n\n\nPlease email enquiries@morrablibrary.org.uk or call 01736 364474 to be entered into the ballot for a ticket. The ballot closes on Monday 6th April. \n\n\nEntry to this event is free but donations are welcomed to help support The Morrab Library (suggested £5). \n\n\nRefreshments will be provided after the talk. \n\n\nCopies of Pamela’s book will be sold at the talk.
URL:https://morrablibrary.org.uk/event/kernow-to-the-crystal-palace-mary-kelynacks-extraordinary-journey-a-talk-from-pamela-vass-wednesday-15th-april/
LOCATION:Morrab Library
CATEGORIES:Event,Talk
END:VEVENT
END:VCALENDAR